BEGIN:VCALENDAR
PRODID:-//github.com/rianjs/ical.net//NONSGML ical.net 4.0//EN
VERSION:2.0
BEGIN:VEVENT
CLASS:PUBLIC
CREATED:20260410T184302
DESCRIPTION:
DTEND:20260502T120000
DTSTAMP:20260410T174302Z
DTSTART:20260502T110000
LOCATION:The Park Cafe\, \,NN1 5LW
SEQUENCE:0
STATUS:
SUMMARY:Cuppa with a Copper - The Park Cafe Abington 11:00 - 12:00
UID:F7B843BFE390D980A85D75E299E26A2A
END:VEVENT
END:VCALENDAR
