BEGIN:VCALENDAR
PRODID:-//github.com/rianjs/ical.net//NONSGML ical.net 4.0//EN
VERSION:2.0
BEGIN:VEVENT
CLASS:PUBLIC
CREATED:20260410T174239
DESCRIPTION:I will be holding a drop in session at the village hall\, this
  will be an opportunity for you to come and have a chat and discuss any i
 ssues in your community
DTEND:20260625T120000
DTSTAMP:20260410T164239Z
DTSTART:20260625T100000
LOCATION:Whitfield Village Hall\, 78 Sandwich Road\,CT16 3LY
SEQUENCE:0
STATUS:
SUMMARY:Whitfield Village Hall
UID:8DEB203D836ECBEC4036D5FA3606C514
END:VEVENT
END:VCALENDAR
