BEGIN:VCALENDAR
PRODID:-//github.com/rianjs/ical.net//NONSGML ical.net 4.0//EN
VERSION:2.0
BEGIN:VEVENT
CLASS:PUBLIC
CREATED:20260410T173439
DESCRIPTION:I will be holding a drop in session at the village hall\, this
  will be an opportunity for you to come and have a chat and discuss any i
 ssues in your community
DTEND:20260514T120000
DTSTAMP:20260410T163439Z
DTSTART:20260514T100000
LOCATION:Whitfield Village Hall\, 78 Sandwich Road\,CT16 3LY
SEQUENCE:0
STATUS:
SUMMARY:Whitfield village Hall
UID:E181B1548DD7B9FE6B6BC8357B23A7E5
END:VEVENT
END:VCALENDAR
