BEGIN:VCALENDAR
PRODID:-//github.com/rianjs/ical.net//NONSGML ical.net 4.0//EN
VERSION:2.0
BEGIN:VEVENT
CLASS:PUBLIC
CREATED:20260410T172824
DESCRIPTION:I will be joining some of the parish councillor's at the villa
 ge hall\, this will be an opportunity for you to come and have a chat and
  discuss any issues in your community
DTEND:20260602T120000
DTSTAMP:20260410T162824Z
DTSTART:20260602T100000
LOCATION:Village Hall\, \,CT18 7LX
SEQUENCE:0
STATUS:
SUMMARY:Capel Village Hall
UID:612DAB106BAA07BA07E9BBF8514D4B30
END:VEVENT
END:VCALENDAR
