BEGIN:VCALENDAR
PRODID:-//github.com/rianjs/ical.net//NONSGML ical.net 4.0//EN
VERSION:2.0
BEGIN:VEVENT
CLASS:PUBLIC
CREATED:20260410T172458
DESCRIPTION:
DTEND:20260505T110000
DTSTAMP:20260410T162458Z
DTSTART:20260505T090000
LOCATION:Village Hall\, \,CT18 7LX
SEQUENCE:0
SUMMARY:Capel Village Hall Drop in session
UID:D903768C6028EFBF83B35918890CB349
END:VEVENT
END:VCALENDAR
