BEGIN:VCALENDAR
PRODID:-//github.com/rianjs/ical.net//NONSGML ical.net 4.0//EN
VERSION:2.0
BEGIN:VEVENT
CLASS:PUBLIC
CREATED:20260410T170853
DESCRIPTION:
DTEND:20260511T113000
DTSTAMP:20260410T160853Z
DTSTART:20260511T103000
LOCATION:The Wardrobe\, 1-3 North Street\,TN24 8JN
SEQUENCE:0
STATUS:
SUMMARY:Coffee Morning
UID:D2614BD155716FC3316222B94D64745F
END:VEVENT
END:VCALENDAR
