BEGIN:VCALENDAR
PRODID:-//github.com/rianjs/ical.net//NONSGML ical.net 4.0//EN
VERSION:2.0
BEGIN:VEVENT
CLASS:PUBLIC
CREATED:20260410T170841
DESCRIPTION:I will be holding a meeting at the Whitfield village Hall\, fo
 r you to attend and speak to me regarding any issues in the community or 
 just for a chat.
DTEND:20260430T120000
DTSTAMP:20260410T160841Z
DTSTART:20260430T100000
LOCATION:Whitfield Village Hall\, 78 Sandwich Road\,CT16 3LY
SEQUENCE:0
STATUS:
SUMMARY:Whitfield Village Hall
UID:874D25AFD6EE25FC3F4E5218B265D7CF
END:VEVENT
END:VCALENDAR
