BEGIN:VCALENDAR
PRODID:-//github.com/rianjs/ical.net//NONSGML ical.net 4.0//EN
VERSION:2.0
BEGIN:VEVENT
CLASS:PUBLIC
CREATED:20260410T165631
DESCRIPTION:community surgery - meet / speak to local officers / provide a
 dvice to members of public / discuss any concerns
DTEND:20260503T140000
DTSTAMP:20260410T155631Z
DTSTART:20260503T130000
LOCATION:Temple Herdewyke Village Hall\, \,CV47 2PB
SEQUENCE:0
STATUS:
SUMMARY:community surgery - Temple Herdewyke
UID:65DEC7967696C53C56D3B15B916A1126
END:VEVENT
END:VCALENDAR
