BEGIN:VCALENDAR
PRODID:-//github.com/rianjs/ical.net//NONSGML ical.net 4.0//EN
VERSION:2.0
BEGIN:VEVENT
CLASS:PUBLIC
CREATED:20260410T170358
DESCRIPTION:
DTEND:20260421T120000
DTSTAMP:20260410T160358Z
DTSTART:20260421T100000
LOCATION:Village Hall\, \,CT18 7LX
SEQUENCE:0
SUMMARY:Capel Village hall drop in session
UID:E2BF3E28D6E3C6CF7218520E44CD6659
END:VEVENT
END:VCALENDAR
