BEGIN:VCALENDAR
PRODID:-//github.com/rianjs/ical.net//NONSGML ical.net 4.0//EN
VERSION:2.0
BEGIN:VEVENT
CLASS:PUBLIC
CREATED:20260410T153225
DESCRIPTION:
DTEND:20260528T200000
DTSTAMP:20260410T143225Z
DTSTART:20260528T170000
LOCATION:Westgate-on-Sea Skatepark\, Lymington Road\,CT8 8ER
SEQUENCE:0
SUMMARY:Community Walk and Talk Event
UID:28B2438D9E16282F73B38DEC563139DD
END:VEVENT
END:VCALENDAR
