BEGIN:VCALENDAR
PRODID:-//github.com/rianjs/ical.net//NONSGML ical.net 4.0//EN
VERSION:2.0
BEGIN:VEVENT
CLASS:PUBLIC
CREATED:20260410T144924
DESCRIPTION:
DTEND:20260705T140000
DTSTAMP:20260410T134924Z
DTSTART:20260705T130000
LOCATION:Eastchurch Village Hall\, Warden Road\,ME12 4EH
SEQUENCE:0
STATUS:
SUMMARY:Eastchurch Drop In/Violence Against Women & Girls Surgery
UID:C903BE400EFD7851C4C1F20A61120EEE
END:VEVENT
END:VCALENDAR
