BEGIN:VCALENDAR
PRODID:-//github.com/rianjs/ical.net//NONSGML ical.net 4.0//EN
VERSION:2.0
BEGIN:VEVENT
CLASS:PUBLIC
CREATED:20260410T114706
DESCRIPTION:Whittlebury Police Surgery
DTEND:20260508T120000
DTSTAMP:20260410T104706Z
DTSTART:20260508T100000
LOCATION:Whittlebury Reading Room\, High Street\,NN12 8XJ
SEQUENCE:0
STATUS:
SUMMARY:Whittlebury Coffee Morning
UID:801CD9D6BDA6EBF81FB6A64E5D6B2091
END:VEVENT
END:VCALENDAR
