BEGIN:VCALENDAR
PRODID:-//github.com/rianjs/ical.net//NONSGML ical.net 4.0//EN
VERSION:2.0
BEGIN:VEVENT
CLASS:PUBLIC
CREATED:20260413T081139
DESCRIPTION:
DTEND:20260619T150000
DTSTAMP:20260413T071139Z
DTSTART:20260619T140000
LOCATION:Saint Marys Parish Centre\, Cannon Street\,CT161LY
SEQUENCE:0
STATUS:
SUMMARY:Meet local Officers
END:VEVENT
END:VCALENDAR
