BEGIN:VCALENDAR
PRODID:-//github.com/rianjs/ical.net//NONSGML ical.net 4.0//EN
VERSION:2.0
BEGIN:VEVENT
CLASS:PUBLIC
CREATED:20260410T075738
DESCRIPTION:
DTEND:20260616T160000
DTSTAMP:20260410T065738Z
DTSTART:20260616T150000
LOCATION:ME12 3FG\, \,ME12 3FG
SEQUENCE:0
STATUS:
SUMMARY:Brambledown Farm Shop\, Violence Against Women and Girls Surgery
UID:5A9E20AE8F2286F008689D826518DAB8
END:VEVENT
END:VCALENDAR
