BEGIN:VCALENDAR
PRODID:-//github.com/rianjs/ical.net//NONSGML ical.net 4.0//EN
VERSION:2.0
BEGIN:VEVENT
CLASS:PUBLIC
CREATED:20260409T172948
DESCRIPTION:Beat Bus engagement in Thrapston Ward
DTEND:20260618T104500
DTSTAMP:20260409T162948Z
DTSTART:20260618T094500
LOCATION:NN14 3AU\, The Lawns\,NN14 3AU
SEQUENCE:0
STATUS:
SUMMARY:Beat Bus Twywell - Meet your local Pcso
UID:3D3DF0A00DFB9DF8DDAEE4258C176431
END:VEVENT
END:VCALENDAR
