BEGIN:VCALENDAR
PRODID:-//github.com/rianjs/ical.net//NONSGML ical.net 4.0//EN
VERSION:2.0
BEGIN:VEVENT
CLASS:PUBLIC
CREATED:20260409T160219
DESCRIPTION:
DTEND:20260426T110000
DTSTAMP:20260409T150219Z
DTSTART:20260426T100000
LOCATION:Waitrose & Partners\, Prospect Road\,CT21 5NH
SEQUENCE:0
STATUS:
SUMMARY:Police surgery
UID:43582FF82F1102F6C398093002846166
END:VEVENT
END:VCALENDAR
