BEGIN:VCALENDAR
PRODID:-//github.com/rianjs/ical.net//NONSGML ical.net 4.0//EN
VERSION:2.0
BEGIN:VEVENT
CLASS:PUBLIC
CREATED:20260409T155849
DESCRIPTION:
DTEND:20260518T150000
DTSTAMP:20260409T145849Z
DTSTART:20260518T140000
LOCATION:Sandgate Library\, Sandgate High Street\,CT20 3RR
SEQUENCE:0
STATUS:
SUMMARY:Police surgery
UID:371842C1C0DF5FA9C0DD65788ACE9D12
END:VEVENT
END:VCALENDAR
