BEGIN:VCALENDAR
PRODID:-//github.com/rianjs/ical.net//NONSGML ical.net 4.0//EN
VERSION:2.0
BEGIN:VEVENT
CLASS:PUBLIC
CREATED:20260409T150936
DESCRIPTION:
DTEND:20260529T200000
DTSTAMP:20260409T140936Z
DTSTART:20260529T180000
LOCATION:Redwell Leisure Centre\, Barnwell Road\,NN8 5LP
SEQUENCE:0
STATUS:
SUMMARY:Redwell Leisure Centre
UID:2D8C842DC31FAD92903548C66868B117
END:VEVENT
END:VCALENDAR
