BEGIN:VCALENDAR
PRODID:-//github.com/rianjs/ical.net//NONSGML ical.net 4.0//EN
VERSION:2.0
BEGIN:VEVENT
CLASS:PUBLIC
CREATED:20260409T150817
DESCRIPTION:
DTEND:20260515T110000
DTSTAMP:20260409T140817Z
DTSTART:20260515T100000
LOCATION:Eastry Village Hall \,CT13 0HD
SEQUENCE:0
STATUS:
SUMMARY:Drop-in Session at Eastry Coffee Morning
END:VEVENT
END:VCALENDAR
