BEGIN:VCALENDAR
PRODID:-//github.com/rianjs/ical.net//NONSGML ical.net 4.0//EN
VERSION:2.0
BEGIN:VEVENT
CLASS:PUBLIC
CREATED:20260413T080932
DESCRIPTION:Officers will be present at Costa Coffee within NEXT Clothing 
 shop located in St James' retail shopping centre\, Dover.
DTEND:20260508T110000
DTSTAMP:20260413T070932Z
DTSTART:20260508T100000
LOCATION:Costa Coffee Next\, 9 Saint James Street\,CT16 1QD
SEQUENCE:0
STATUS:
SUMMARY:Coffee with a Cop
END:VEVENT
END:VCALENDAR
