BEGIN:VCALENDAR
PRODID:-//github.com/rianjs/ical.net//NONSGML ical.net 4.0//EN
VERSION:2.0
BEGIN:VEVENT
CLASS:PUBLIC
CREATED:20260409T145640
DESCRIPTION:
DTEND:20260622T140000
DTSTAMP:20260409T135640Z
DTSTART:20260622T124500
LOCATION:Jubilee Centre \,CT13 0QP
SEQUENCE:0
STATUS:
SUMMARY:Drop-in Session at The Pantry\, Jubilee Centre\, Sandwich
END:VEVENT
END:VCALENDAR
