BEGIN:VCALENDAR
PRODID:-//github.com/rianjs/ical.net//NONSGML ical.net 4.0//EN
VERSION:2.0
BEGIN:VEVENT
CLASS:PUBLIC
CREATED:20260409T142335
DESCRIPTION:
DTEND:20260722T120000
DTSTAMP:20260409T132335Z
DTSTART:20260722T110000
LOCATION:Morrisons Cafe\, 148 Cheriton Road\,CT19 5JS
SEQUENCE:0
STATUS:
SUMMARY:Ward Surgery for Broadmead\, Radnor Park\, Lynwood and Park Farm
UID:AB3E9B31E1C26B9B0D32C78A9F1192F0
END:VEVENT
END:VCALENDAR
