BEGIN:VCALENDAR
PRODID:-//github.com/rianjs/ical.net//NONSGML ical.net 4.0//EN
VERSION:2.0
BEGIN:VEVENT
CLASS:PUBLIC
CREATED:20260409T134730
DESCRIPTION:
DTEND:20260510T140000
DTSTAMP:20260409T124730Z
DTSTART:20260510T100000
LOCATION:Llanymynech Village Hall\, Station Road\,SY22 6EE
SEQUENCE:0
SUMMARY:Bike Marking Event
UID:5267ED829273713C634DB9B5719953B3
END:VEVENT
END:VCALENDAR
