BEGIN:VCALENDAR
PRODID:-//github.com/rianjs/ical.net//NONSGML ical.net 4.0//EN
VERSION:2.0
BEGIN:VEVENT
CLASS:PUBLIC
CREATED:20260409T122409
DESCRIPTION:Awards ceremony for the Junior PCSOs
DTEND:20261019T100000
DTSTAMP:20260409T112409Z
DTSTART:20261019T090000
LOCATION:Austrey Church of England Primary School\, Saint Nicholas Close\,
 CV9 3EQ
SEQUENCE:0
STATUS:
SUMMARY:Junior PCSO parking Patrols Austrey Primary School
UID:9A8FE3CA0B38DF946380E0ABE2545148
END:VEVENT
END:VCALENDAR
