BEGIN:VCALENDAR
PRODID:-//github.com/rianjs/ical.net//NONSGML ical.net 4.0//EN
VERSION:2.0
BEGIN:VEVENT
CLASS:PUBLIC
CREATED:20260409T114751
DESCRIPTION:Attend Youth Centre
DTEND:20260610T200000
DTSTAMP:20260409T104751Z
DTSTART:20260610T180000
LOCATION:Ratcliffe Road\,CV9
SEQUENCE:0
STATUS:
SUMMARY:Youth Club
UID:8652F1E0C80BB5C3A9B053FFFF64EF04
END:VEVENT
END:VCALENDAR
