BEGIN:VCALENDAR
PRODID:-//github.com/rianjs/ical.net//NONSGML ical.net 4.0//EN
VERSION:2.0
BEGIN:VEVENT
CLASS:PUBLIC
CREATED:20260409T090602
DESCRIPTION:
DTEND:20260620T160000
DTSTAMP:20260409T080602Z
DTSTART:20260620T140000
LOCATION:Rainham Library\, 1 Birling Avenue\,ME8 7LR
SEQUENCE:0
STATUS:
SUMMARY:Police Surgery Rainham Library
UID:59ABBFC43AB1934B58E56979CE427A71
END:VEVENT
END:VCALENDAR
