BEGIN:VCALENDAR
PRODID:-//github.com/rianjs/ical.net//NONSGML ical.net 4.0//EN
VERSION:2.0
BEGIN:VEVENT
CLASS:PUBLIC
CREATED:20260409T083151
DESCRIPTION:
DTEND:20260523T160000
DTSTAMP:20260409T073151Z
DTSTART:20260523T140000
LOCATION:Rainham Library\, 1 Birling Avenue\,ME8 7LR
SEQUENCE:0
STATUS:
SUMMARY:Police Surgery Rainham Library
UID:5AAF69C9C730AB8509335F73F2A7CF28
END:VEVENT
END:VCALENDAR
