BEGIN:VCALENDAR
PRODID:-//github.com/rianjs/ical.net//NONSGML ical.net 4.0//EN
VERSION:2.0
BEGIN:VEVENT
CLASS:PUBLIC
CREATED:20260409T082555
DESCRIPTION:
DTEND:20260621T160000
DTSTAMP:20260409T072555Z
DTSTART:20260621T140000
LOCATION:Osbern Manor Care Home\, 26 Hoath Lane\,ME8 0SW
SEQUENCE:0
STATUS:
SUMMARY:Police Surgery Osbern Manor
UID:5ACD13F34B8E8505EE3054B52369522F
END:VEVENT
END:VCALENDAR
