BEGIN:VCALENDAR
PRODID:-//github.com/rianjs/ical.net//NONSGML ical.net 4.0//EN
VERSION:2.0
BEGIN:VEVENT
CLASS:PUBLIC
CREATED:20260409T081920
DESCRIPTION:
DTEND:20260524T160000
DTSTAMP:20260409T071920Z
DTSTART:20260524T140000
LOCATION:Osbern Manor Care Home\, 26 Hoath Lane\,ME8 0SW
SEQUENCE:0
STATUS:
SUMMARY:Police Surgery Osbern Manor
UID:653C53CCC391D5FE874AC09F7F450202
END:VEVENT
END:VCALENDAR
