BEGIN:VCALENDAR
PRODID:-//github.com/rianjs/ical.net//NONSGML ical.net 4.0//EN
VERSION:2.0
BEGIN:VEVENT
CLASS:PUBLIC
CREATED:20260408T152414
DESCRIPTION:
DTEND:20260609T101500
DTSTAMP:20260408T142414Z
DTSTART:20260609T093000
LOCATION:The Garden Restaurant\, Ashford Road\,TN26 3LF
SEQUENCE:0
SUMMARY:Bethersden - Beat Officer Drop-In
UID:987B67BEB6625CAD1417CB85DA3FB2C6
END:VEVENT
END:VCALENDAR
