BEGIN:VCALENDAR
PRODID:-//github.com/rianjs/ical.net//NONSGML ical.net 4.0//EN
VERSION:2.0
BEGIN:VEVENT
CLASS:PUBLIC
CREATED:20260408T131849
DESCRIPTION:
DTEND:20260603T110000
DTSTAMP:20260408T121849Z
DTSTART:20260603T100000
LOCATION:Tonbridge Old Fire Station\, Castle Street\,TN9 1BH
SEQUENCE:0
STATUS:
SUMMARY:Cuppa with a Copper
UID:C05521A295CBAF75BC33109BEF43CC6D
END:VEVENT
END:VCALENDAR
