BEGIN:VCALENDAR
PRODID:-//github.com/rianjs/ical.net//NONSGML ical.net 4.0//EN
VERSION:2.0
BEGIN:VEVENT
CLASS:PUBLIC
CREATED:20260408T120219
DESCRIPTION:
DTEND:20260507T100000
DTSTAMP:20260408T110219Z
DTSTART:20260507T090000
LOCATION:The Hub - Wye\, \,TN25 5BX
SEQUENCE:0
SUMMARY:Drop In Appointment with Local Beat Officer
UID:4C8BED4D19F8E508909E8866FE4962BE
END:VEVENT
END:VCALENDAR
