BEGIN:VCALENDAR
PRODID:-//github.com/rianjs/ical.net//NONSGML ical.net 4.0//EN
VERSION:2.0
BEGIN:VEVENT
CLASS:PUBLIC
CREATED:20260408T092552
DESCRIPTION:
DTEND:20260610T190000
DTSTAMP:20260408T082552Z
DTSTART:20260610T170000
LOCATION:Dunchurch Park Hotel\, \,CV22 6QW
SEQUENCE:0
STATUS:
SUMMARY:Dunchurch youth club
UID:0D0CB6AD8638078C7B90B04A99444E5F
END:VEVENT
END:VCALENDAR
