BEGIN:VCALENDAR
PRODID:-//github.com/rianjs/ical.net//NONSGML ical.net 4.0//EN
VERSION:2.0
BEGIN:VEVENT
CLASS:PUBLIC
CREATED:20260408T092303
DESCRIPTION:
DTEND:20260506T190000
DTSTAMP:20260408T082303Z
DTSTART:20260506T170000
LOCATION:Dunchurch Park Hotel\, \,CV22 6QW
SEQUENCE:0
STATUS:
SUMMARY:Dunchurch youth club
UID:4271D6D8183AD57554AB709402BF7867
END:VEVENT
END:VCALENDAR
