BEGIN:VCALENDAR
PRODID:-//github.com/rianjs/ical.net//NONSGML ical.net 4.0//EN
VERSION:2.0
BEGIN:VEVENT
CLASS:PUBLIC
CREATED:20260408T092053
DESCRIPTION:
DTEND:20260505T111900
DTSTAMP:20260408T082053Z
DTSTART:20260505T101900
LOCATION:Birdingbury Village Club\, Main Street\,CV23 8EL
SEQUENCE:0
STATUS:
SUMMARY:Birdingbury cafe
UID:1317AECAE1EFE05BBD784CD2ABD7DF38
END:VEVENT
END:VCALENDAR
