BEGIN:VCALENDAR
PRODID:-//github.com/rianjs/ical.net//NONSGML ical.net 4.0//EN
VERSION:2.0
BEGIN:VEVENT
CLASS:PUBLIC
CREATED:20260408T091849
DESCRIPTION:Community coffee morning
DTEND:20260424T120100
DTSTAMP:20260408T081849Z
DTSTART:20260424T103100
LOCATION:Dunchurch & Bilton Cricket Club\, \,CV22 6PN
SEQUENCE:0
STATUS:
SUMMARY:Dunchurch coffee morning
UID:760E3855980FFB1B8B353843C5C1D1B2
END:VEVENT
END:VCALENDAR
