BEGIN:VCALENDAR
PRODID:-//github.com/rianjs/ical.net//NONSGML ical.net 4.0//EN
VERSION:2.0
BEGIN:VEVENT
CLASS:PUBLIC
CREATED:20260408T091758
DESCRIPTION:
DTEND:20260707T110000
DTSTAMP:20260408T081758Z
DTSTART:20260707T100000
LOCATION:York Parade\,TN10
SEQUENCE:0
STATUS:
SUMMARY:Surgery
UID:0D5E46D576ACD9177EE47B3EED5B2B04
END:VEVENT
END:VCALENDAR
