BEGIN:VCALENDAR
PRODID:-//github.com/rianjs/ical.net//NONSGML ical.net 4.0//EN
VERSION:2.0
BEGIN:VEVENT
CLASS:PUBLIC
CREATED:20260408T091429
DESCRIPTION:
DTEND:20260706T110000
DTSTAMP:20260408T081429Z
DTSTART:20260706T100000
LOCATION:Martin Hardie Way\,TN10
SEQUENCE:0
STATUS:
SUMMARY:Surgery
UID:B2095AB7591147A0374FB257C0C4A1A6
END:VEVENT
END:VCALENDAR
