BEGIN:VCALENDAR
PRODID:-//github.com/rianjs/ical.net//NONSGML ical.net 4.0//EN
VERSION:2.0
BEGIN:VEVENT
CLASS:PUBLIC
CREATED:20260407T152213
DESCRIPTION:
DTEND:20260630T150000
DTSTAMP:20260407T142213Z
DTSTART:20260630T130000
LOCATION:Painters Forstal Community Hall\, Forstal Road\,ME13 0EN
SEQUENCE:0
STATUS:
SUMMARY:Community Surgery
UID:7A44F6FF1172F199353534CED1D370C2
END:VEVENT
END:VCALENDAR
