BEGIN:VCALENDAR
PRODID:-//github.com/rianjs/ical.net//NONSGML ical.net 4.0//EN
VERSION:2.0
BEGIN:VEVENT
CLASS:PUBLIC
CREATED:20260407T131810
DESCRIPTION:For attendance if time allows
DTEND:20260506T210000
DTSTAMP:20260407T121810Z
DTSTART:20260506T190000
LOCATION:Detling Village Hall\, Pilgrims Way\,ME14 3EY
SEQUENCE:0
STATUS:
SUMMARY:Detling Parish Council - Annual Parish Meeting
END:VEVENT
END:VCALENDAR
