BEGIN:VCALENDAR
PRODID:-//github.com/rianjs/ical.net//NONSGML ical.net 4.0//EN
VERSION:2.0
BEGIN:VEVENT
CLASS:PUBLIC
CREATED:20260407T111523
DESCRIPTION:
DTEND:20260430T220000
DTSTAMP:20260407T101522Z
DTSTART:20260430T190000
LOCATION:Dartford District Scout Council\, 7 Broomhill Road\,DA1 3EW
SEQUENCE:0
STATUS:
SUMMARY:Dartford Heath Ward Residents Meeting
UID:82B16CE04B66AB3DC747BCDDEE89636E
END:VEVENT
END:VCALENDAR
