BEGIN:VCALENDAR
PRODID:-//github.com/rianjs/ical.net//NONSGML ical.net 4.0//EN
VERSION:2.0
BEGIN:VEVENT
CLASS:PUBLIC
CREATED:20260407T112457
DESCRIPTION:
DTEND:20261003T120000
DTSTAMP:20260407T102457Z
DTSTART:20261003T103000
LOCATION:St. Lawrence's Church\, \,MK44 3PX
SEQUENCE:0
STATUS:
SUMMARY:Willington - coffee morning at St. Lawrence Church
UID:DA9BE8EECCDF2541BF43D1D2C570DEE7
END:VEVENT
END:VCALENDAR
