BEGIN:VCALENDAR
PRODID:-//github.com/rianjs/ical.net//NONSGML ical.net 4.0//EN
VERSION:2.0
BEGIN:VEVENT
CLASS:PUBLIC
CREATED:20260407T090026
DESCRIPTION:
DTEND:20260621T120000
DTSTAMP:20260407T080026Z
DTSTART:20260621T100000
LOCATION:Park wood green public car park\, Parkwood Green\,ME8 9PR
SEQUENCE:0
STATUS:
SUMMARY:Police Surgery Parkwood Green Car Park\, Long Catlis Road. Gilling
 ham\, Kent\, ME8 9PR
UID:D18A19FD9C6023BF3F2E18D72C2DC2EA
END:VEVENT
END:VCALENDAR
