BEGIN:VCALENDAR
PRODID:-//github.com/rianjs/ical.net//NONSGML ical.net 4.0//EN
VERSION:2.0
BEGIN:VEVENT
CLASS:PUBLIC
CREATED:20260407T085427
DESCRIPTION:
DTEND:20260524T120000
DTSTAMP:20260407T075427Z
DTSTART:20260524T100000
LOCATION:Park wood green public car park\, Parkwood Green\,ME8 9PR
SEQUENCE:0
STATUS:
SUMMARY:Police Surgery Parkwood Green Car Park\, Parkwood\, Kent\, ME8 9PR
UID:DBA33AFF70E74F51B1DC486453325694
END:VEVENT
END:VCALENDAR
