BEGIN:VCALENDAR
PRODID:-//github.com/rianjs/ical.net//NONSGML ical.net 4.0//EN
VERSION:2.0
BEGIN:VEVENT
CLASS:PUBLIC
CREATED:20260407T084425
DESCRIPTION:
DTEND:20260524T120000
DTSTAMP:20260407T074425Z
DTSTART:20260524T100000
LOCATION:Park wood green public car park\, Parkwood Green\,ME8 9PR
SEQUENCE:0
STATUS:
SUMMARY:Police Surgery Parkwood Green Car Park\, Long Catlis Road\, Parkwo
 od\, Kent\, ME8 9PR
UID:CC5073A107DCED6684E4BFC48F795474
END:VEVENT
END:VCALENDAR
