BEGIN:VCALENDAR
PRODID:-//github.com/rianjs/ical.net//NONSGML ical.net 4.0//EN
VERSION:2.0
BEGIN:VEVENT
CLASS:PUBLIC
CREATED:20260405T190536
DESCRIPTION:Monthly Surgery Meeting
DTEND:20260520T120000
DTSTAMP:20260405T180536Z
DTSTART:20260520T110000
LOCATION:Bread of Life Ltd\, 17 Darnley Road\,ME2 2EU
SEQUENCE:0
STATUS:
SUMMARY:Community Surgery Strood West
UID:7008B5579E3D58D538DCF4A1DE5C6315
END:VEVENT
END:VCALENDAR
