BEGIN:VCALENDAR
PRODID:-//github.com/rianjs/ical.net//NONSGML ical.net 4.0//EN
VERSION:2.0
BEGIN:VEVENT
CLASS:PUBLIC
CREATED:20260404T155958
DESCRIPTION:
DTEND:20260622T120000
DTSTAMP:20260404T145958Z
DTSTART:20260622T100000
LOCATION:The Church of Jesus Christ of Latter-day Saints\, London Road\,ME
 16 8QL
SEQUENCE:0
STATUS:
SUMMARY:Local Police Surgery at The Church of Jesus Christ of Latter-day S
 aints
UID:A32E597490CD0EDDF740EF2D038589A6
END:VEVENT
END:VCALENDAR
