BEGIN:VCALENDAR
PRODID:-//github.com/rianjs/ical.net//NONSGML ical.net 4.0//EN
VERSION:2.0
BEGIN:VEVENT
CLASS:PUBLIC
CREATED:20260404T123638
DESCRIPTION:
DTEND:20260901T120000
DTSTAMP:20260404T113638Z
DTSTART:20260901T100000
LOCATION:Nene Court Shopping Village\, Embankment\,NN8 1LD
SEQUENCE:0
STATUS:
SUMMARY:Nene Court Shopping Village - Beat bus
UID:3E74977F5A70502E2E4AE02BA351B92F
END:VEVENT
END:VCALENDAR
