BEGIN:VCALENDAR
PRODID:-//github.com/rianjs/ical.net//NONSGML ical.net 4.0//EN
VERSION:2.0
BEGIN:VEVENT
CLASS:PUBLIC
CREATED:20260404T123340
DESCRIPTION:
DTEND:20260804T120000
DTSTAMP:20260404T113340Z
DTSTART:20260804T100000
LOCATION:Nene Court Shopping Village\, Embankment\,NN8 1LD
SEQUENCE:0
STATUS:
SUMMARY:Nene Court Shopping Village - Beat bus
UID:8A6CA13F67B7365AFB7AE6F04F63DBCD
END:VEVENT
END:VCALENDAR
