BEGIN:VCALENDAR
PRODID:-//github.com/rianjs/ical.net//NONSGML ical.net 4.0//EN
VERSION:2.0
BEGIN:VEVENT
CLASS:PUBLIC
CREATED:20260404T121149
DESCRIPTION:
DTEND:20260609T120000
DTSTAMP:20260404T111149Z
DTSTART:20260609T100000
LOCATION:Nene Court Shopping Village\, Embankment\,NN8 1LD
SEQUENCE:0
STATUS:
SUMMARY:Nene Court Shopping Village - Beat bus
UID:B09AF6CBFA65E920E050787096FD78F8
END:VEVENT
END:VCALENDAR
